BEGIN:VCALENDAR
VERSION:2.0
PRODID:-//CDI Africa - ECPv6.13.1//NONSGML v1.0//EN
CALSCALE:GREGORIAN
METHOD:PUBLISH
X-ORIGINAL-URL:https://www.cdi-africa.com
X-WR-CALDESC:Events for CDI Africa
REFRESH-INTERVAL;VALUE=DURATION:PT1H
X-Robots-Tag:noindex
X-PUBLISHED-TTL:PT1H
BEGIN:VTIMEZONE
TZID:Europe/Moscow
BEGIN:STANDARD
TZOFFSETFROM:+0300
TZOFFSETTO:+0300
TZNAME:MSK
DTSTART:20250101T000000
END:STANDARD
END:VTIMEZONE
BEGIN:VEVENT
DTSTART;TZID=Europe/Moscow:20250701T080000
DTEND;TZID=Europe/Moscow:20250701T170000
DTSTAMP:20260420T072521
CREATED:20250508T081203Z
LAST-MODIFIED:20250528T231208Z
UID:10096-1751356800-1751389200@www.cdi-africa.com
SUMMARY:Global Diploma: Professional Coaching Program Cohort 26 Intake
DESCRIPTION:A Premier ICF-Accredited Global Coaching Diploma specially designed for the discerning and human centred executive market place leaders (CEO’s\, MD’s\, GM’s\, Directors\, Heads of Division and their equivalent) who are seeking to multiply their leadership impact and legacy.
URL:https://www.cdi-africa.com/event/global-diploma-professional-coaching-program-cohort-26-intake/
CATEGORIES:Program Intakes
ATTACH;FMTTYPE=image/png:https://www.cdi-africa.com/wp-content/uploads/2024/10/CELC-Cohort-15-03.png
END:VEVENT
BEGIN:VEVENT
DTSTART;TZID=Europe/Moscow:20250731T140000
DTEND;TZID=Europe/Moscow:20250731T170000
DTSTAMP:20260420T072521
CREATED:20250702T113407Z
LAST-MODIFIED:20250702T113409Z
UID:10432-1753970400-1753981200@www.cdi-africa.com
SUMMARY:Coaching Business Masterclass
DESCRIPTION:The Coaching Business Masterclass is a program designed by Eileen Laskar\, MCC to help coaches build and run successful and sustainable coaching businesses. 
URL:https://www.cdi-africa.com/event/coaching-business-masterclass/
LOCATION:Online
CATEGORIES:Program Intakes
ATTACH;FMTTYPE=image/png:https://www.cdi-africa.com/wp-content/uploads/2025/07/Coaching-Business-Masterclass-2-fin-3.png
ORGANIZER;CN="CDI-Africa Coaching Group (Programs)":MAILTO:sarah.ogola@cdi-africa.com
END:VEVENT
BEGIN:VEVENT
DTSTART;TZID=Europe/Moscow:20250731T173000
DTEND;TZID=Europe/Moscow:20250731T193000
DTSTAMP:20260420T072521
CREATED:20250729T112143Z
LAST-MODIFIED:20250729T112147Z
UID:10458-1753983000-1753990200@www.cdi-africa.com
SUMMARY:Why You Can't Sit Out Boardroom Politics
DESCRIPTION:Whether you are already a board member or you are gearing up to become one\, 𝗽𝗼𝗹𝗶𝘁𝗶𝗰𝗮𝗹 𝗶𝗻𝘁𝗲𝗹𝗹𝗶𝗴𝗲𝗻𝗰𝗲 is no longer optional; it is a 𝗰𝗼𝗿𝗲 𝗹𝗲𝗮𝗱𝗲𝗿𝘀𝗵𝗶𝗽 𝗰𝗮𝗽𝗮𝗯𝗶𝗹𝗶𝘁𝘆. \nJoin us for a dynamic\, eye-opening session where seasoned leaders and boardroom veterans will unpack the unspoken rules of influence and how to: \n✨ 𝗥𝗲𝗰𝗼𝗴𝗻𝗶𝘇𝗲 and 𝗿𝗲𝘀𝗽𝗼𝗻𝗱 to 𝗽𝗼𝗹𝗶𝘁𝗶𝗰𝗮𝗹 𝘂𝗻𝗱𝗲𝗿𝗰𝘂𝗿𝗿𝗲𝗻𝘁𝘀 that shape decisions✨ 𝗕𝘂𝗶𝗹𝗱 𝗮𝗹𝗹𝗶𝗮𝗻𝗰𝗲𝘀 that elevate your leadership and impact✨ 𝗦𝘁𝗮𝘆 𝗽𝗲𝗼𝗽𝗹𝗲-𝗰𝗲𝗻𝘁𝗲𝗿𝗲𝗱 while confidently navigating power and positioning✨ 𝗟𝗲𝘃𝗲𝗿𝗮𝗴𝗲 𝗽𝗼𝗹𝗶𝘁𝗶𝗰𝗮𝗹 𝘀𝗮𝘃𝘃𝘆 to lead with 𝘀𝘁𝗿𝗲𝗻𝗴𝘁𝗵\, 𝘀𝘁𝗿𝗮𝘁𝗲𝗴𝘆\, and 𝗽𝗿𝗲𝘀𝗲𝗻𝗰𝗲 \n𝗠𝗲𝗲𝘁 𝘆𝗼𝘂𝗿 𝗽𝗼𝘄𝗲𝗿𝗵𝗼𝘂𝘀𝗲 𝗽𝗮𝗻𝗲𝗹:🔸 Patrick Obath – Board Member & Certified Executive Leadership Coach🔸 Evelyne Munyoki – HR Leader\, Board Member & Certified Executive Leadership Coach🔸 Mary M’Mukindia\, MBS – Multi-Board Member & Certified Executive Leadership Coach🔸 Dr. Wairimu Murage-Karani – Chief Human Resources Officer & Certified Executive Coach🎙️ Hosted by CDI-Africa Coaching Group in partnership with Women On Boards Network Kenya (WOBN).💬 Don’t just take a seat\, own your voice\, your power\, and your space.
URL:https://www.cdi-africa.com/event/why-you-cant-sit-out-boardroom-politics/
LOCATION:Online
CATEGORIES:Program Intakes
ATTACH;FMTTYPE=image/png:https://www.cdi-africa.com/wp-content/uploads/2025/07/WOBN-webinar-9.png
ORGANIZER;CN="CDI-Africa Coaching Group (Programs)":MAILTO:sarah.ogola@cdi-africa.com
END:VEVENT
END:VCALENDAR