BEGIN:VCALENDAR
VERSION:2.0
PRODID:-//CDI Africa - ECPv6.13.1//NONSGML v1.0//EN
CALSCALE:GREGORIAN
METHOD:PUBLISH
X-WR-CALNAME:CDI Africa
X-ORIGINAL-URL:https://www.cdi-africa.com
X-WR-CALDESC:Events for CDI Africa
REFRESH-INTERVAL;VALUE=DURATION:PT1H
X-Robots-Tag:noindex
X-PUBLISHED-TTL:PT1H
BEGIN:VTIMEZONE
TZID:Europe/Moscow
BEGIN:STANDARD
TZOFFSETFROM:+0300
TZOFFSETTO:+0300
TZNAME:MSK
DTSTART:20250101T000000
END:STANDARD
END:VTIMEZONE
BEGIN:VEVENT
DTSTART;TZID=Europe/Moscow:20250828T190000
DTEND;TZID=Europe/Moscow:20250828T220000
DTSTAMP:20260420T052624
CREATED:20250419T130131Z
LAST-MODIFIED:20250702T074535Z
UID:8581-1756407600-1756418400@www.cdi-africa.com
SUMMARY:Executive Coaching: The Strategic HR Leader
DESCRIPTION:The Executive Coaching: The Strategic HR Leader Program is a group coaching program specially designed for HR professionals seeking to elevate their leadership to the strategic level and have both their voices heard and impact felt in organizations and beyond. Upon completion of the program you will earn 6 Continuing Professional Development (CPD) Points
URL:https://www.cdi-africa.com/event/global-diploma-professional-coaching-program-cohort-3-intake/
LOCATION:Online
CATEGORIES:Program Intakes
ATTACH;FMTTYPE=image/png:https://www.cdi-africa.com/wp-content/uploads/2025/04/Strategic-HR-Leader-Edited-Introductory-Offer-2.png
ORGANIZER;CN="CDI-Africa Coaching Group (Programs)":MAILTO:sarah.ogola@cdi-africa.com
END:VEVENT
END:VCALENDAR