BEGIN:VCALENDAR
VERSION:2.0
PRODID:-//CDI Africa - ECPv6.13.1//NONSGML v1.0//EN
CALSCALE:GREGORIAN
METHOD:PUBLISH
X-ORIGINAL-URL:https://www.cdi-africa.com
X-WR-CALDESC:Events for CDI Africa
REFRESH-INTERVAL;VALUE=DURATION:PT1H
X-Robots-Tag:noindex
X-PUBLISHED-TTL:PT1H
BEGIN:VTIMEZONE
TZID:Europe/Moscow
BEGIN:STANDARD
TZOFFSETFROM:+0300
TZOFFSETTO:+0300
TZNAME:MSK
DTSTART:20240101T000000
END:STANDARD
END:VTIMEZONE
BEGIN:VEVENT
DTSTART;TZID=Europe/Moscow:20241002T173000
DTEND;TZID=Europe/Moscow:20241002T190000
DTSTAMP:20260420T201736
CREATED:20240923T125816Z
LAST-MODIFIED:20240923T125816Z
UID:10069-1727890200-1727895600@www.cdi-africa.com
SUMMARY:Awakening The Coach In You
DESCRIPTION:Join us for the Awaken the Coach in You webinar\, featuring Patrick Obath\, Certified Executive Leadership Coach and Chairman of The Board of Trustees at KEPSA Foundation. \nIn this webinar\, we will cover:\nHow to harness the inherent power of coaching within\n·       How to master coaching techniques that foster real transformation in others\n·       Building a fulfilling career that empowers you to inspire others and a lasting impact\n·       Insights into the certification process and what it takes to become recognized globally \nReady to get started? Register here: https://bit.ly/4e6za3e to secure your spot! \nIf you have ever thought about making coaching your profession\, this webinar will guide you on the path to becoming a certified professional coach and give you the knowledge you need to take the next step.
URL:https://www.cdi-africa.com/event/awakening-the-coach-in-you/
CATEGORIES:Webinar
ATTACH;FMTTYPE=image/png:https://www.cdi-africa.com/wp-content/uploads/2024/09/Awaken-The-Coach-Within-01.png
END:VEVENT
END:VCALENDAR